BEGIN:VCALENDAR
VERSION:2.0
PRODID:-//Hilliard Center - ECPv6.15.20//NONSGML v1.0//EN
CALSCALE:GREGORIAN
METHOD:PUBLISH
X-ORIGINAL-URL:https://www.hilliardcenter.com
X-WR-CALDESC:Events for Hilliard Center
REFRESH-INTERVAL;VALUE=DURATION:PT1H
X-Robots-Tag:noindex
X-PUBLISHED-TTL:PT1H
BEGIN:VTIMEZONE
TZID:America/Chicago
BEGIN:DAYLIGHT
TZOFFSETFROM:-0600
TZOFFSETTO:-0500
TZNAME:CDT
DTSTART:20250309T080000
END:DAYLIGHT
BEGIN:STANDARD
TZOFFSETFROM:-0500
TZOFFSETTO:-0600
TZNAME:CST
DTSTART:20251102T070000
END:STANDARD
BEGIN:DAYLIGHT
TZOFFSETFROM:-0600
TZOFFSETTO:-0500
TZNAME:CDT
DTSTART:20260308T080000
END:DAYLIGHT
BEGIN:STANDARD
TZOFFSETFROM:-0500
TZOFFSETTO:-0600
TZNAME:CST
DTSTART:20261101T070000
END:STANDARD
BEGIN:DAYLIGHT
TZOFFSETFROM:-0600
TZOFFSETTO:-0500
TZNAME:CDT
DTSTART:20270314T080000
END:DAYLIGHT
BEGIN:STANDARD
TZOFFSETFROM:-0500
TZOFFSETTO:-0600
TZNAME:CST
DTSTART:20271107T070000
END:STANDARD
END:VTIMEZONE
BEGIN:VEVENT
DTSTART;TZID=America/Chicago:20260327T190000
DTEND;TZID=America/Chicago:20260327T190000
DTSTAMP:20260422T053322
CREATED:20250804T172314Z
LAST-MODIFIED:20250804T172315Z
UID:10001476-1774638000-1774638000@www.hilliardcenter.com
SUMMARY:Corpus Christi IceRays vs El Paso Rhinos
DESCRIPTION:Corpus Christi IceRays Hockey 2025-2026 Season\nPrices: $25\, $15\, $12\, $10\nKids 12 and under FREE Admission\nGroup Ticket Discounts: Contact IceRays at 361-814-7825
URL:https://www.hilliardcenter.com/event/corpus-christi-icerays-vs-el-paso-rhinos-3/
LOCATION:Arena\, 1901 N. Shoreline Blvd\, Corpus Christi\, 78401\, United States
ATTACH;FMTTYPE=image/jpeg:https://www.hilliardcenter.com/wp-content/uploads/2025/08/header-2526.jpg
END:VEVENT
END:VCALENDAR