BEGIN:VCALENDAR
VERSION:2.0
PRODID:-//Hilliard Center - ECPv6.15.18//NONSGML v1.0//EN
CALSCALE:GREGORIAN
METHOD:PUBLISH
X-WR-CALNAME:Hilliard Center
X-ORIGINAL-URL:https://www.hilliardcenter.com
X-WR-CALDESC:Events for Hilliard Center
REFRESH-INTERVAL;VALUE=DURATION:PT1H
X-Robots-Tag:noindex
X-PUBLISHED-TTL:PT1H
BEGIN:VTIMEZONE
TZID:America/Chicago
BEGIN:DAYLIGHT
TZOFFSETFROM:-0600
TZOFFSETTO:-0500
TZNAME:CDT
DTSTART:20250309T080000
END:DAYLIGHT
BEGIN:STANDARD
TZOFFSETFROM:-0500
TZOFFSETTO:-0600
TZNAME:CST
DTSTART:20251102T070000
END:STANDARD
BEGIN:DAYLIGHT
TZOFFSETFROM:-0600
TZOFFSETTO:-0500
TZNAME:CDT
DTSTART:20260308T080000
END:DAYLIGHT
BEGIN:STANDARD
TZOFFSETFROM:-0500
TZOFFSETTO:-0600
TZNAME:CST
DTSTART:20261101T070000
END:STANDARD
BEGIN:DAYLIGHT
TZOFFSETFROM:-0600
TZOFFSETTO:-0500
TZNAME:CDT
DTSTART:20270314T080000
END:DAYLIGHT
BEGIN:STANDARD
TZOFFSETFROM:-0500
TZOFFSETTO:-0600
TZNAME:CST
DTSTART:20271107T070000
END:STANDARD
END:VTIMEZONE
BEGIN:VEVENT
DTSTART;TZID=America/Chicago:20260404T190000
DTEND;TZID=America/Chicago:20260404T190000
DTSTAMP:20260421T190118
CREATED:20250908T131331Z
LAST-MODIFIED:20260403T162314Z
UID:10001484-1775329200-1775329200@www.hilliardcenter.com
SUMMARY:Bailey Zimmerman - Different Night Same Rodeo Tour
DESCRIPTION:WHO: Bailey Zimmerman – Different Night Same Rodeo Tour 2026 \nWHAT: Chart-topping country artist Bailey Zimmerman is bringing his Different Night Same Rodeo Tour 2026 to the Coastal Bend for one night only. Fans can expect an unforgettable evening filled with Zimmerman’s biggest hits and high-energy performance. \nWHEN: Saturday\, April 4\, 2026 at 7:00 PM \nWHERE: Hilliard Center Arena \n\n Event Timeline \n\n\n Beer Garden: 4:00PM with Rasta Bob offering samples\n Doors: 6:00PM\nShow Time: 7:00PM\nTry our Speciality Drinks: Zimmermade and Rum and a Hard Place available at Beer Garden Bars\, 3 Bars on 1st level including Texas Bar and Michelob Ultra Lounge\n Reserve Parking: tinyurl.com/ParkingatHilliardCenter\n Limited tickets still available: bit.ly/BaileyZimmermanCC\n Clear Bag Policy\n Credit Card Only
URL:https://www.hilliardcenter.com/event/bailey-zimmerman-different-night-same-rodeo-tour/
LOCATION:Arena\, 1901 N. Shoreline Blvd\, Corpus Christi\, 78401\, United States
ATTACH;FMTTYPE=image/jpeg:https://www.hilliardcenter.com/wp-content/uploads/2025/09/Static_Outdoor-ConcertVision_1920x1080_BaileyZimmerman_2026_Regional_HilliardCenterArena_0404.jpg
END:VEVENT
END:VCALENDAR