BEGIN:VCALENDAR
VERSION:2.0
PRODID:-//Hilliard Center - ECPv6.15.18//NONSGML v1.0//EN
CALSCALE:GREGORIAN
METHOD:PUBLISH
X-WR-CALNAME:Hilliard Center
X-ORIGINAL-URL:https://www.hilliardcenter.com
X-WR-CALDESC:Events for Hilliard Center
REFRESH-INTERVAL;VALUE=DURATION:PT1H
X-Robots-Tag:noindex
X-PUBLISHED-TTL:PT1H
BEGIN:VTIMEZONE
TZID:America/Chicago
BEGIN:DAYLIGHT
TZOFFSETFROM:-0600
TZOFFSETTO:-0500
TZNAME:CDT
DTSTART:20250309T080000
END:DAYLIGHT
BEGIN:STANDARD
TZOFFSETFROM:-0500
TZOFFSETTO:-0600
TZNAME:CST
DTSTART:20251102T070000
END:STANDARD
BEGIN:DAYLIGHT
TZOFFSETFROM:-0600
TZOFFSETTO:-0500
TZNAME:CDT
DTSTART:20260308T080000
END:DAYLIGHT
BEGIN:STANDARD
TZOFFSETFROM:-0500
TZOFFSETTO:-0600
TZNAME:CST
DTSTART:20261101T070000
END:STANDARD
BEGIN:DAYLIGHT
TZOFFSETFROM:-0600
TZOFFSETTO:-0500
TZNAME:CDT
DTSTART:20270314T080000
END:DAYLIGHT
BEGIN:STANDARD
TZOFFSETFROM:-0500
TZOFFSETTO:-0600
TZNAME:CST
DTSTART:20271107T070000
END:STANDARD
END:VTIMEZONE
BEGIN:VEVENT
DTSTART;TZID=America/Chicago:20260414T180000
DTEND;TZID=America/Chicago:20260414T180000
DTSTAMP:20260421T052523
CREATED:20251118T150202Z
LAST-MODIFIED:20260413T221001Z
UID:10001509-1776189600-1776189600@www.hilliardcenter.com
SUMMARY:Be Like Blippi!
DESCRIPTION:Event: Be Like Blippi!\nDate: Tuesday\, April 14 at 6:00 pm\nVenue: Selena Auditorium at Hilliard Center \n Event Timeline \n Doors: 5:00PM\n Show Time: 6:00PM\n Reserve Parking: tinyurl.com/ParkingatHilliardCenter\n Tickets still available: tinyurl.com/belikeblippiCC\n Clear Bag Policy\n Credit Card Only\n\nMeet and Greet Experience is Sold Out!
URL:https://www.hilliardcenter.com/event/be-like-blippi/
LOCATION:Selena Auditorium\, 1901 N. Shoreline Blvd\, Corpus Christi\, TX\, 78401\, United States
CATEGORIES:Family
ATTACH;FMTTYPE=image/jpeg:https://www.hilliardcenter.com/wp-content/uploads/2025/11/Blippi-1920x1080-1.jpg
END:VEVENT
END:VCALENDAR