BEGIN:VCALENDAR
VERSION:2.0
PRODID:-//Hilliard Center - ECPv6.15.18//NONSGML v1.0//EN
CALSCALE:GREGORIAN
METHOD:PUBLISH
X-WR-CALNAME:Hilliard Center
X-ORIGINAL-URL:https://www.hilliardcenter.com
X-WR-CALDESC:Events for Hilliard Center
REFRESH-INTERVAL;VALUE=DURATION:PT1H
X-Robots-Tag:noindex
X-PUBLISHED-TTL:PT1H
BEGIN:VTIMEZONE
TZID:America/Chicago
BEGIN:DAYLIGHT
TZOFFSETFROM:-0600
TZOFFSETTO:-0500
TZNAME:CDT
DTSTART:20250309T080000
END:DAYLIGHT
BEGIN:STANDARD
TZOFFSETFROM:-0500
TZOFFSETTO:-0600
TZNAME:CST
DTSTART:20251102T070000
END:STANDARD
BEGIN:DAYLIGHT
TZOFFSETFROM:-0600
TZOFFSETTO:-0500
TZNAME:CDT
DTSTART:20260308T080000
END:DAYLIGHT
BEGIN:STANDARD
TZOFFSETFROM:-0500
TZOFFSETTO:-0600
TZNAME:CST
DTSTART:20261101T070000
END:STANDARD
BEGIN:DAYLIGHT
TZOFFSETFROM:-0600
TZOFFSETTO:-0500
TZNAME:CDT
DTSTART:20270314T080000
END:DAYLIGHT
BEGIN:STANDARD
TZOFFSETFROM:-0500
TZOFFSETTO:-0600
TZNAME:CST
DTSTART:20271107T070000
END:STANDARD
END:VTIMEZONE
BEGIN:VEVENT
DTSTART;TZID=America/Chicago:20260423T080000
DTEND;TZID=America/Chicago:20260423T170000
DTSTAMP:20260421T070302
CREATED:20260325T194224Z
LAST-MODIFIED:20260325T194224Z
UID:10001622-1776931200-1776963600@www.hilliardcenter.com
SUMMARY:TEMA Connect 2026 Day 3
DESCRIPTION:For more information please visit the TEMA Connect website here
URL:https://www.hilliardcenter.com/event/tema-connect-2026-day-3/
LOCATION:Convention Center\, 1901 N. Shoreline Blvd\, Corpus Christi\, TX\, 78401\, United States
ATTACH;FMTTYPE=image/jpeg:https://www.hilliardcenter.com/wp-content/uploads/2026/01/Venue-Logo-Neutral-Background-1920x1080-2.jpg
END:VEVENT
BEGIN:VEVENT
DTSTART;TZID=America/Chicago:20260423T193000
DTEND;TZID=America/Chicago:20260423T193000
DTSTAMP:20260421T070302
CREATED:20260326T152244Z
LAST-MODIFIED:20260401T174241Z
UID:10001619-1776972600-1776972600@www.hilliardcenter.com
SUMMARY:Las Doñas de la Corte
DESCRIPTION:For more information on Las Doñas de la Corte\, please visit their website here
URL:https://www.hilliardcenter.com/event/las-donas-de-la-corte/
LOCATION:Convention Center\, 1901 N. Shoreline Blvd\, Corpus Christi\, TX\, 78401\, United States
ATTACH;FMTTYPE=image/jpeg:https://www.hilliardcenter.com/wp-content/uploads/2026/01/Venue-Logo-Neutral-Background-1920x1080-2.jpg
END:VEVENT
END:VCALENDAR