BEGIN:VCALENDAR
VERSION:2.0
PRODID:-//Hilliard Center - ECPv6.15.18//NONSGML v1.0//EN
CALSCALE:GREGORIAN
METHOD:PUBLISH
X-ORIGINAL-URL:https://www.hilliardcenter.com
X-WR-CALDESC:Events for Hilliard Center
REFRESH-INTERVAL;VALUE=DURATION:PT1H
X-Robots-Tag:noindex
X-PUBLISHED-TTL:PT1H
BEGIN:VTIMEZONE
TZID:America/Chicago
BEGIN:DAYLIGHT
TZOFFSETFROM:-0600
TZOFFSETTO:-0500
TZNAME:CDT
DTSTART:20250309T080000
END:DAYLIGHT
BEGIN:STANDARD
TZOFFSETFROM:-0500
TZOFFSETTO:-0600
TZNAME:CST
DTSTART:20251102T070000
END:STANDARD
BEGIN:DAYLIGHT
TZOFFSETFROM:-0600
TZOFFSETTO:-0500
TZNAME:CDT
DTSTART:20260308T080000
END:DAYLIGHT
BEGIN:STANDARD
TZOFFSETFROM:-0500
TZOFFSETTO:-0600
TZNAME:CST
DTSTART:20261101T070000
END:STANDARD
BEGIN:DAYLIGHT
TZOFFSETFROM:-0600
TZOFFSETTO:-0500
TZNAME:CDT
DTSTART:20270314T080000
END:DAYLIGHT
BEGIN:STANDARD
TZOFFSETFROM:-0500
TZOFFSETTO:-0600
TZNAME:CST
DTSTART:20271107T070000
END:STANDARD
END:VTIMEZONE
BEGIN:VEVENT
DTSTART;TZID=America/Chicago:20260505T190000
DTEND;TZID=America/Chicago:20260505T190000
DTSTAMP:20260421T140312
CREATED:20260113T140013Z
LAST-MODIFIED:20260113T140013Z
UID:10001566-1778007600-1778007600@www.hilliardcenter.com
SUMMARY:BucDays Concert Series – Marshall Tucker Band
DESCRIPTION:Corpus Christi\, TX\, January 13\, 2026– The Buccaneer Commission is proud to announce Marshall Tucker Band as part of the Physicians Premier Concert Series for the May 5th Rodeo Corpus Christi performance \nTickets start at $25\, which includes the Rodeo Corpus Christi performance and Concert. Tickets will be available at bucdays.com/tickets/ \nAdditional Rodeo Corpus Christi presented by Miller Lite artist announcements will follow in the coming weeks.
URL:https://www.hilliardcenter.com/event/bucdays-concert-series-marshall-tucker-band/
LOCATION:Arena\, 1901 N. Shoreline Blvd\, Corpus Christi\, 78401\, United States
CATEGORIES:Concerts
ATTACH;FMTTYPE=image/png:https://www.hilliardcenter.com/wp-content/uploads/2026/01/TheMarshallTuckerBand_1920×1080.png
END:VEVENT
END:VCALENDAR