BEGIN:VCALENDAR
VERSION:2.0
PRODID:-//Hilliard Center - ECPv6.15.20//NONSGML v1.0//EN
CALSCALE:GREGORIAN
METHOD:PUBLISH
X-WR-CALNAME:Hilliard Center
X-ORIGINAL-URL:https://www.hilliardcenter.com
X-WR-CALDESC:Events for Hilliard Center
REFRESH-INTERVAL;VALUE=DURATION:PT1H
X-Robots-Tag:noindex
X-PUBLISHED-TTL:PT1H
BEGIN:VTIMEZONE
TZID:America/Chicago
BEGIN:DAYLIGHT
TZOFFSETFROM:-0600
TZOFFSETTO:-0500
TZNAME:CDT
DTSTART:20250309T080000
END:DAYLIGHT
BEGIN:STANDARD
TZOFFSETFROM:-0500
TZOFFSETTO:-0600
TZNAME:CST
DTSTART:20251102T070000
END:STANDARD
BEGIN:DAYLIGHT
TZOFFSETFROM:-0600
TZOFFSETTO:-0500
TZNAME:CDT
DTSTART:20260308T080000
END:DAYLIGHT
BEGIN:STANDARD
TZOFFSETFROM:-0500
TZOFFSETTO:-0600
TZNAME:CST
DTSTART:20261101T070000
END:STANDARD
BEGIN:DAYLIGHT
TZOFFSETFROM:-0600
TZOFFSETTO:-0500
TZNAME:CDT
DTSTART:20270314T080000
END:DAYLIGHT
BEGIN:STANDARD
TZOFFSETFROM:-0500
TZOFFSETTO:-0600
TZNAME:CST
DTSTART:20271107T070000
END:STANDARD
END:VTIMEZONE
BEGIN:VEVENT
DTSTART;TZID=America/Chicago:20261010T190000
DTEND;TZID=America/Chicago:20261010T190000
DTSTAMP:20260425T215323
CREATED:20260324T134815Z
LAST-MODIFIED:20260327T152425Z
UID:10001613-1791658800-1791658800@www.hilliardcenter.com
SUMMARY:John Mulaney - Mister Whatever
DESCRIPTION:John Mulaney is a four-time Emmy Award\, Critics Choice award and WGA award-winning writer\, comedian and actor. Most recently\, Mulaney can be seen as the host\, writer and executive producer of his Netflix talk show EVERYBODY’S LIVE WITH JOHN MULANEY. The show serves as the continuation of the series EVERYBODY’S IN LA. The series features monologues\, guests\, pre-taped sketches\, musical segments and more. EVERYBODY’S IN LA\, was a six-night live comedy series that explored Los Angeles during the Netflix Is A Joke Festival in 2024. \nIn December 2024\, Mulaney starred in the Broadway play “All In: Comedy About Love\,” alongside a cast including Fred Armisen\, Richard Kind and Renee Elise Goldsberry. Mulaney is currently on the first leg of his newest stand-up tour\, JOHN MULANEY: MISTER WHATEVER\, performing across North America. Mulaney can next be seen in the Amazon MGM Studios film\, MADDEN\, an upcoming American biographical sports drama directed by David O. Russell. \nOn Sale Now!
URL:https://www.hilliardcenter.com/event/john-mulaney-mister-whatever/
LOCATION:Selena Auditorium\, 1901 N. Shoreline Blvd\, Corpus Christi\, TX\, 78401\, United States
CATEGORIES:Comedy
ATTACH;FMTTYPE=image/jpeg:https://www.hilliardcenter.com/wp-content/uploads/2026/03/1010-CorpusChristi-JohnMulaney-1920x1080-1.jpg
END:VEVENT
END:VCALENDAR