BEGIN:VCALENDAR
VERSION:2.0
PRODID:-//Hilliard Center - ECPv6.15.18//NONSGML v1.0//EN
CALSCALE:GREGORIAN
METHOD:PUBLISH
X-ORIGINAL-URL:https://www.hilliardcenter.com
X-WR-CALDESC:Events for Hilliard Center
REFRESH-INTERVAL;VALUE=DURATION:PT1H
X-Robots-Tag:noindex
X-PUBLISHED-TTL:PT1H
BEGIN:VTIMEZONE
TZID:America/Chicago
BEGIN:DAYLIGHT
TZOFFSETFROM:-0600
TZOFFSETTO:-0500
TZNAME:CDT
DTSTART:20250309T080000
END:DAYLIGHT
BEGIN:STANDARD
TZOFFSETFROM:-0500
TZOFFSETTO:-0600
TZNAME:CST
DTSTART:20251102T070000
END:STANDARD
BEGIN:DAYLIGHT
TZOFFSETFROM:-0600
TZOFFSETTO:-0500
TZNAME:CDT
DTSTART:20260308T080000
END:DAYLIGHT
BEGIN:STANDARD
TZOFFSETFROM:-0500
TZOFFSETTO:-0600
TZNAME:CST
DTSTART:20261101T070000
END:STANDARD
BEGIN:DAYLIGHT
TZOFFSETFROM:-0600
TZOFFSETTO:-0500
TZNAME:CDT
DTSTART:20270314T080000
END:DAYLIGHT
BEGIN:STANDARD
TZOFFSETFROM:-0500
TZOFFSETTO:-0600
TZNAME:CST
DTSTART:20271107T070000
END:STANDARD
END:VTIMEZONE
BEGIN:VEVENT
DTSTART;TZID=America/Chicago:20260506T190000
DTEND;TZID=America/Chicago:20260506T190000
DTSTAMP:20260421T165144
CREATED:20260108T181722Z
LAST-MODIFIED:20260217T153509Z
UID:10001559-1778094000-1778094000@www.hilliardcenter.com
SUMMARY:BucDays Concert Series - Switchfoot
DESCRIPTION:Corpus Christi\, TX\, January 6\, 2026– The Buccaneer Commission is proud to announce SWITCHFOOT as part of the Physicians Premier Concert Series for the May 6th Rodeo Corpus Christi performance. Known for “Meant to Live”\, SWITCHFOOT is sure to deliver a captivating performance that will leave audiences inspired and energized.\nSWITCHFOOT – May 6\, 2026 \nSWITCHFOOT has sold over 10 million copies worldwide of their thirteen studio albums (including their 2003 triple-platinum breakthrough The Beautiful Letdown and 2009’s Grammy Award-winning Hello Hurricane)\, racked up a string of Alternative radio hit singles\, and performed sold-out tours with over 5 million concert tickets sold in over 40 countries around the world. Through their unique blend of emotionally intelligent and uplifting brand of alternative rock\, SWITCHFOOT has earned a devoted and loyal global fan base. \nSWITCHFOOT has raised over $3 million dollars to aid kids in their community through their BRO-AM Foundation. \nSWITCHFOOT consists of Jon Foreman (vocals\, guitar)\, Tim Foreman (bass)\, Jerome Fontamillas (keys\, guitar) and Chad Butler (drums) \nIndividual tickets for the May 6th performance are on sale now. Tickets start at $25\, which includes the Rodeo Corpus Christi performance and Concert. Tickets will be available at bucdays.com/tickets/ \nAdditional Rodeo Corpus Christi presented by Miller Lite artist announcements will follow in the coming weeks.
URL:https://www.hilliardcenter.com/event/bucdays-concert-series-switchfoot/
LOCATION:Arena\, 1901 N. Shoreline Blvd\, Corpus Christi\, 78401\, United States
ATTACH;FMTTYPE=image/jpeg:https://www.hilliardcenter.com/wp-content/uploads/2026/01/Switchfoot_1920x1080.jpg
END:VEVENT
BEGIN:VEVENT
DTSTART;TZID=America/Chicago:20260507T190000
DTEND;TZID=America/Chicago:20260507T190000
DTSTAMP:20260421T165144
CREATED:20260120T140219Z
LAST-MODIFIED:20260120T151820Z
UID:10001571-1778180400-1778180400@www.hilliardcenter.com
SUMMARY:BucDays Concert Series -David Lee Garza Reunion
DESCRIPTION:The Buccaneer Commission is proud to announce David Lee Garza Reunion with special guest Jay Perez and The Official Tribute to Emilio Navaira ft. Diego Navaira and Emilio Navaira as part of the Physicians Premier Concert Series for the May 5th Rodeo Corpus Christi performance. \nAdditional Rodeo Corpus Christi presented by Miller Lite artist announcements will follow in the coming weeks
URL:https://www.hilliardcenter.com/event/bucdays-concert-series-david-lee-garza-reunion/
LOCATION:Arena\, 1901 N. Shoreline Blvd\, Corpus Christi\, 78401\, United States
CATEGORIES:Concerts
END:VEVENT
BEGIN:VEVENT
DTSTART;TZID=America/Chicago:20260508T190000
DTEND;TZID=America/Chicago:20260508T190000
DTSTAMP:20260421T165144
CREATED:20260127T135518Z
LAST-MODIFIED:20260217T153158Z
UID:10001573-1778266800-1778266800@www.hilliardcenter.com
SUMMARY:BucDays Concert Series - Midland
DESCRIPTION:Individual tickets for the May 8th performance are on sale now. Tickets start at $25\, which includes the Rodeo Corpus Christi performance and Concert. Tickets will be available at bucdays.com/tickets/ \nAdditional Rodeo Corpus Christi presented by Miller Lite artist announcements will follow in the coming weeks.
URL:https://www.hilliardcenter.com/event/bucdays-concert-series-midland/
LOCATION:Arena\, 1901 N. Shoreline Blvd\, Corpus Christi\, 78401\, United States
CATEGORIES:Concerts
ATTACH;FMTTYPE=image/png:https://www.hilliardcenter.com/wp-content/uploads/2026/01/Midland_1920×1080.png
END:VEVENT
BEGIN:VEVENT
DTSTART;TZID=America/Chicago:20260509T180000
DTEND;TZID=America/Chicago:20260509T180000
DTSTAMP:20260421T165144
CREATED:20260209T173520Z
LAST-MODIFIED:20260217T152927Z
UID:10001577-1778349600-1778349600@www.hilliardcenter.com
SUMMARY:Buc Days Concert Series: Shane Smith & The Saints
DESCRIPTION:Saturday\, May 9th\, 2026\nChampionship Night presented by Port of Corpus Christi.\n\nRodeo Corpus Christi\, presented by Miller Lite\, is almost here\, and it promises to be an unforgettable experience. This isn’t your average rodeo—get ready for thrilling events like saddle bronc riding\, barrel racing\, bareback riding\, and more. Whether you’re a seasoned rodeo fan or attending for the first time\, there’s something for everyone.\nAfter the rodeo\, stick around for a performance by Shane Smith and the Saints as part of the Physicians Premier ER Concert Series. It’s a night full of excitement\, fierce competition\, and great music you won’t want to miss!\nLet’s make Rodeo Corpus Christi the talk of the town.\nRodeo Corpus Christi is presented by Miller Lite.\n\nHappy Buc Days!
URL:https://www.hilliardcenter.com/event/buc-days-concert-series-shane-smith-the-saints/
LOCATION:Arena\, 1901 N. Shoreline Blvd\, Corpus Christi\, 78401\, United States
CATEGORIES:Concerts
ATTACH;FMTTYPE=image/png:https://www.hilliardcenter.com/wp-content/uploads/2026/02/ShaneSmith_1920x1005.png
END:VEVENT
BEGIN:VEVENT
DTSTART;TZID=America/Chicago:20260514T110000
DTEND;TZID=America/Chicago:20260514T110000
DTSTAMP:20260421T165144
CREATED:20260417T185026Z
LAST-MODIFIED:20260417T185145Z
UID:10001643-1778756400-1778756400@www.hilliardcenter.com
SUMMARY:2026 Go Red for Women Luncheon
DESCRIPTION:Event Schedule:\n11:00 AM | Doors Open\n11:30 AM | Lunch & Program Begins\n12:45 PM | Purse-Onality Auction Closes\n1:30 PM | Event Concludes \n  \nAttire:\nWear RED! \n  \nParking Information:\nValet provided on Shoreline Blvd. \n  \nFor more information on the 2026 Go Red for Women Luncheon go here
URL:https://www.hilliardcenter.com/event/2026-go-red-for-women-luncheon/
LOCATION:Convention Center\, 1901 N. Shoreline Blvd\, Corpus Christi\, TX\, 78401\, United States
ATTACH;FMTTYPE=image/jpeg:https://www.hilliardcenter.com/wp-content/uploads/2026/04/651889850_1420142413490069_1140310683847303256_n.jpg
END:VEVENT
BEGIN:VEVENT
DTSTART;TZID=America/Chicago:20260514T170000
DTEND;TZID=America/Chicago:20260514T170000
DTSTAMP:20260421T165144
CREATED:20260421T154937Z
LAST-MODIFIED:20260421T154938Z
UID:10001650-1778778000-1778778000@www.hilliardcenter.com
SUMMARY:Spring 2026 Honor's Ceremony Del Mar College
DESCRIPTION:
URL:https://www.hilliardcenter.com/event/spring-2026-honors-ceremony-del-mar-college/
LOCATION:Arena\, 1901 N. Shoreline Blvd\, Corpus Christi\, 78401\, United States
END:VEVENT
BEGIN:VEVENT
DTSTART;TZID=America/Chicago:20260515T080000
DTEND;TZID=America/Chicago:20260515T170000
DTSTAMP:20260421T165144
CREATED:20260421T155246Z
LAST-MODIFIED:20260421T155327Z
UID:10001651-1778832000-1778864400@www.hilliardcenter.com
SUMMARY:Del Mar Graduation
DESCRIPTION:
URL:https://www.hilliardcenter.com/event/del-mar-graduation/
LOCATION:Arena\, 1901 N. Shoreline Blvd\, Corpus Christi\, 78401\, United States
ATTACH;FMTTYPE=image/jpeg:https://www.hilliardcenter.com/wp-content/uploads/2026/04/2024-Graduation-Generic-TV-DelMar.jpg
END:VEVENT
BEGIN:VEVENT
DTSTART;TZID=America/Chicago:20260516T080000
DTEND;TZID=America/Chicago:20260516T170000
DTSTAMP:20260421T165144
CREATED:20260421T155628Z
LAST-MODIFIED:20260421T155850Z
UID:10001652-1778918400-1778950800@www.hilliardcenter.com
SUMMARY:Texas A&M University Corpus Christi Graduation
DESCRIPTION:Ceremony times will be as follows: \n10:00 a.m.\n\nCollege of Business\nCollege of Engineering and Computer Science \nCollege of Science\n\n2:00 p.m.\n\nCollege of Education and Human Development\nCollege of Liberal Arts\nCollege of Nursing and Health Sciences\nSchool of Arts\, Media\, & Communication\n\nGuest seating will be general admission\, and no tickets are required to enter the ceremony. There is no guest limit per graduate; however\, please note that guest seating in the arena is available on a first come\, first served basis. Arena doors open one hour prior to the ceremony. Our FAQ and Graduation Checklist can answer many of your questions about the big day. \nThere will be a seating area reserved for guests with ADA needs. Please have the guest(s) find an Hilliard Center Arena staff member to direct them to the ADA section on the day of commencement. Each ADA guest will be permitted 1 additional guest to accompany them.
URL:https://www.hilliardcenter.com/event/texas-am-university-corpus-christi-graduation/
LOCATION:Arena\, 1901 N. Shoreline Blvd\, Corpus Christi\, 78401\, United States
ATTACH;FMTTYPE=image/jpeg:https://www.hilliardcenter.com/wp-content/uploads/2026/04/2024-Graduation-Generic-TV-TAMUCC.jpg
END:VEVENT
BEGIN:VEVENT
DTSTART;TZID=America/Chicago:20260516T170000
DTEND;TZID=America/Chicago:20260516T170000
DTSTAMP:20260421T165144
CREATED:20260417T192603Z
LAST-MODIFIED:20260420T151625Z
UID:10001645-1778950800-1778950800@www.hilliardcenter.com
SUMMARY:Private Celebration
DESCRIPTION:Our venue is reserved for a private celebration. Interested in hosting your own event? Contact our sales team
URL:https://www.hilliardcenter.com/event/private-celebration/
LOCATION:Convention Center\, 1901 N. Shoreline Blvd\, Corpus Christi\, TX\, 78401\, United States
ATTACH;FMTTYPE=image/jpeg:https://www.hilliardcenter.com/wp-content/uploads/2026/01/Private-Event-1920x1080-1.jpg
END:VEVENT
BEGIN:VEVENT
DTSTART;TZID=America/Chicago:20260516T180000
DTEND;TZID=America/Chicago:20260516T180000
DTSTAMP:20260421T165144
CREATED:20260417T191034Z
LAST-MODIFIED:20260417T191034Z
UID:10001644-1778954400-1778954400@www.hilliardcenter.com
SUMMARY:Veterans Memorial HS Prom 2026
DESCRIPTION:Our venue is reserved for a private celebration. Interested in hosting your own event? Contact our sales team.
URL:https://www.hilliardcenter.com/event/veterans-memorial-hs-prom-2026/
ATTACH;FMTTYPE=image/jpeg:https://www.hilliardcenter.com/wp-content/uploads/2026/04/Veterans-Memorial-Logo-1920x1080-1.jpg
END:VEVENT
BEGIN:VEVENT
DTSTART;TZID=America/Chicago:20260516T180000
DTEND;TZID=America/Chicago:20260516T180000
DTSTAMP:20260421T165144
CREATED:20260421T144800Z
LAST-MODIFIED:20260421T145701Z
UID:10001649-1778954400-1778954400@www.hilliardcenter.com
SUMMARY:Avant Dance -  2026 Spring Showcase
DESCRIPTION:On sale now! For more information visit the Avant Dance website here \n 
URL:https://www.hilliardcenter.com/event/avant-dance-2026-spring-showcase/
LOCATION:Selena Auditorium\, 1901 N. Shoreline Blvd\, Corpus Christi\, TX\, 78401\, United States
ATTACH;FMTTYPE=image/jpeg:https://www.hilliardcenter.com/wp-content/uploads/2026/04/Avant-Dance-1920x1080-1.jpg
END:VEVENT
BEGIN:VEVENT
DTSTART;TZID=America/Chicago:20260521T080000
DTEND;TZID=America/Chicago:20260521T170000
DTSTAMP:20260421T165144
CREATED:20260420T160703Z
LAST-MODIFIED:20260420T161936Z
UID:10001647-1779350400-1779382800@www.hilliardcenter.com
SUMMARY:De Colores Child Development Center Graduation
DESCRIPTION:Our venue is reserved for a private graduation.
URL:https://www.hilliardcenter.com/event/de-colores-child-development-center-graduation/
LOCATION:Convention Center\, 1901 N. Shoreline Blvd\, Corpus Christi\, TX\, 78401\, United States
ATTACH;FMTTYPE=image/jpeg:https://www.hilliardcenter.com/wp-content/uploads/2026/04/2024-Graduation-Generic-TV.jpg
END:VEVENT
BEGIN:VEVENT
DTSTART;TZID=America/Chicago:20260521T180000
DTEND;TZID=America/Chicago:20260521T180000
DTSTAMP:20260421T165144
CREATED:20260415T200412Z
LAST-MODIFIED:20260421T214015Z
UID:10001638-1779386400-1779386400@www.hilliardcenter.com
SUMMARY:London High School Graduation
DESCRIPTION:Doors open at 5PM
URL:https://www.hilliardcenter.com/event/london-high-school-graduation/
LOCATION:Arena\, 1901 N. Shoreline Blvd\, Corpus Christi\, 78401\, United States
ATTACH;FMTTYPE=image/jpeg:https://www.hilliardcenter.com/wp-content/uploads/2026/04/2025-London-Graduation-Generic-TV-.jpg
END:VEVENT
BEGIN:VEVENT
DTSTART;TZID=America/Chicago:20260522T180000
DTEND;TZID=America/Chicago:20260522T180000
DTSTAMP:20260421T165144
CREATED:20260415T193139Z
LAST-MODIFIED:20260415T193140Z
UID:10001636-1779472800-1779472800@www.hilliardcenter.com
SUMMARY:Tuloso Midway High School Graduation
DESCRIPTION:Doors open at 5:00PM
URL:https://www.hilliardcenter.com/event/tuloso-midway-high-school-graduation/
LOCATION:Arena\, 1901 N. Shoreline Blvd\, Corpus Christi\, 78401\, United States
ATTACH;FMTTYPE=image/jpeg:https://www.hilliardcenter.com/wp-content/uploads/2026/04/Tuloso-Midway-Graduation-Generic-TV.jpg
END:VEVENT
BEGIN:VEVENT
DTSTART;TZID=America/Chicago:20260523T100000
DTEND;TZID=America/Chicago:20260523T100000
DTSTAMP:20260421T165144
CREATED:20260415T192631Z
LAST-MODIFIED:20260415T192909Z
UID:10001635-1779530400-1779530400@www.hilliardcenter.com
SUMMARY:Calallen High School Graduation
DESCRIPTION:Doors open at 9:00AM
URL:https://www.hilliardcenter.com/event/calallen-high-school-graduation/
LOCATION:Arena\, 1901 N. Shoreline Blvd\, Corpus Christi\, 78401\, United States
ATTACH;FMTTYPE=image/jpeg:https://www.hilliardcenter.com/wp-content/uploads/2026/04/Calallen-Graduation-Generic-TV.jpg
END:VEVENT
BEGIN:VEVENT
DTSTART;TZID=America/Chicago:20260523T160000
DTEND;TZID=America/Chicago:20260523T160000
DTSTAMP:20260421T165144
CREATED:20260415T195726Z
LAST-MODIFIED:20260415T200055Z
UID:10001637-1779552000-1779552000@www.hilliardcenter.com
SUMMARY:Gregory Portland High School Graduation
DESCRIPTION:Doors open at 3PM
URL:https://www.hilliardcenter.com/event/gregory-portland-high-school-graduation/
LOCATION:Arena\, 1901 N. Shoreline Blvd\, Corpus Christi\, 78401\, United States
ATTACH;FMTTYPE=image/jpeg:https://www.hilliardcenter.com/wp-content/uploads/2026/04/2024-Graduation-Generic-TV-2.jpg
END:VEVENT
BEGIN:VEVENT
DTSTART;TZID=America/Chicago:20260529T100000
DTEND;TZID=America/Chicago:20260529T120000
DTSTAMP:20260421T165144
CREATED:20260403T185614Z
LAST-MODIFIED:20260403T185614Z
UID:10001626-1780048800-1780056000@www.hilliardcenter.com
SUMMARY:Carroll High School Graduation
DESCRIPTION:Doors open at 9 a.m.
URL:https://www.hilliardcenter.com/event/carroll-high-school-graduation/
LOCATION:Arena\, 1901 N. Shoreline Blvd\, Corpus Christi\, 78401\, United States
ATTACH;FMTTYPE=image/jpeg:https://www.hilliardcenter.com/wp-content/uploads/2026/04/2024-Graduation-Generic-TV-CARROLL.jpg
END:VEVENT
BEGIN:VEVENT
DTSTART;TZID=America/Chicago:20260529T140000
DTEND;TZID=America/Chicago:20260529T160000
DTSTAMP:20260421T165144
CREATED:20260403T185849Z
LAST-MODIFIED:20260403T185850Z
UID:10001627-1780063200-1780070400@www.hilliardcenter.com
SUMMARY:King High School Graduation
DESCRIPTION:Doors open at 1 p.m.
URL:https://www.hilliardcenter.com/event/king-high-school-graduation/
LOCATION:Arena\, 1901 N. Shoreline Blvd\, Corpus Christi\, 78401\, United States
ATTACH;FMTTYPE=image/jpeg:https://www.hilliardcenter.com/wp-content/uploads/2026/04/2024-Graduation-Generic-TV-KING.jpg
END:VEVENT
BEGIN:VEVENT
DTSTART;TZID=America/Chicago:20260529T180000
DTEND;TZID=America/Chicago:20260529T200000
DTSTAMP:20260421T165144
CREATED:20260403T190126Z
LAST-MODIFIED:20260403T191805Z
UID:10001628-1780077600-1780084800@www.hilliardcenter.com
SUMMARY:Miller High School Graduation
DESCRIPTION:Doors open at 5 p.m.
URL:https://www.hilliardcenter.com/event/miller-high-school-graduation/
LOCATION:Arena\, 1901 N. Shoreline Blvd\, Corpus Christi\, 78401\, United States
ATTACH;FMTTYPE=image/jpeg:https://www.hilliardcenter.com/wp-content/uploads/2026/04/2024-Graduation-Generic-TV-MILLER.jpg
END:VEVENT
BEGIN:VEVENT
DTSTART;TZID=America/Chicago:20260530T080000
DTEND;TZID=America/Chicago:20260530T170000
DTSTAMP:20260421T165144
CREATED:20260420T161447Z
LAST-MODIFIED:20260420T161447Z
UID:10001648-1780128000-1780160400@www.hilliardcenter.com
SUMMARY:Premier High School Graduation
DESCRIPTION:Our venue is reserved for a private graduation.
URL:https://www.hilliardcenter.com/event/premier-high-school-graduation/
ATTACH;FMTTYPE=image/jpeg:https://www.hilliardcenter.com/wp-content/uploads/2026/04/2024-Graduation-Generic-TV.jpg
END:VEVENT
BEGIN:VEVENT
DTSTART;TZID=America/Chicago:20260530T100000
DTEND;TZID=America/Chicago:20260530T120000
DTSTAMP:20260421T165144
CREATED:20260406T164446Z
LAST-MODIFIED:20260406T164447Z
UID:10001630-1780135200-1780142400@www.hilliardcenter.com
SUMMARY:Veterans Memorial High School Graduation
DESCRIPTION:Doors open at 9AM
URL:https://www.hilliardcenter.com/event/veterans-memorial-high-school-graduation/
LOCATION:Arena\, 1901 N. Shoreline Blvd\, Corpus Christi\, 78401\, United States
ATTACH;FMTTYPE=image/jpeg:https://www.hilliardcenter.com/wp-content/uploads/2026/04/2024-Graduation-Generic-TV-Veterans.jpg
END:VEVENT
BEGIN:VEVENT
DTSTART;TZID=America/Chicago:20260530T140000
DTEND;TZID=America/Chicago:20260530T160000
DTSTAMP:20260421T165144
CREATED:20260406T164809Z
LAST-MODIFIED:20260406T164830Z
UID:10001631-1780149600-1780156800@www.hilliardcenter.com
SUMMARY:Moody High School Graduation
DESCRIPTION:Doors open at 1PM
URL:https://www.hilliardcenter.com/event/moody-high-school-graduation/
LOCATION:Arena\, 1901 N. Shoreline Blvd\, Corpus Christi\, 78401\, United States
ATTACH;FMTTYPE=image/jpeg:https://www.hilliardcenter.com/wp-content/uploads/2026/04/2024-Graduation-Generic-TV-MOODY.jpg
END:VEVENT
BEGIN:VEVENT
DTSTART;TZID=America/Chicago:20260530T180000
DTEND;TZID=America/Chicago:20260530T200000
DTSTAMP:20260421T165144
CREATED:20260406T165130Z
LAST-MODIFIED:20260406T165130Z
UID:10001632-1780164000-1780171200@www.hilliardcenter.com
SUMMARY:Ray High School Graduation
DESCRIPTION:Doors open at 5PM
URL:https://www.hilliardcenter.com/event/ray-high-school-graduation/
LOCATION:Arena\, 1901 N. Shoreline Blvd\, Corpus Christi\, 78401\, United States
ATTACH;FMTTYPE=image/jpeg:https://www.hilliardcenter.com/wp-content/uploads/2026/04/2024-Graduation-Generic-TV-RAY.jpg
END:VEVENT
BEGIN:VEVENT
DTSTART;TZID=America/Chicago:20260602T193000
DTEND;TZID=America/Chicago:20260602T193000
DTSTAMP:20260421T165144
CREATED:20250714T153530Z
LAST-MODIFIED:20260108T173819Z
UID:10001442-1780428600-1780428600@www.hilliardcenter.com
SUMMARY:Hadestown
DESCRIPTION:Hadestown\nTuesday\, June 2\, 2026\nHilliard Center Selena Auditorium \nBecome a subscriber to the Broadway series now! Click here for more info\nIndividual tickets go on sale at a later date \nCOME SEE HOW THE WORLD COULD BE. \nWelcome to HADESTOWN\, where a song can change your fate. Winner of eight 2019 Tony Awards® including Best Musical and the 2020 Grammy® Award for Best Musical Theater Album\, this acclaimed new show from celebrated singer-songwriter Anaïs Mitchell and original director Rachel Chavkin (Natasha\, Pierre & The Great Comet of 1812) is a love story for today… and always. \nIntertwining two mythic tales — that of young dreamers Orpheus and Eurydice\, and that of King Hades and his wife Persephone — HADESTOWN is a haunting and hopeful theatrical experience that grabs you and never lets go. \nFor Accessibility info including accessible seating\, please CLICK HERE
URL:https://www.hilliardcenter.com/event/hadestown/
LOCATION:Selena Auditorium\, 1901 N. Shoreline Blvd\, Corpus Christi\, TX\, 78401\, United States
ATTACH;FMTTYPE=image/jpeg:https://www.hilliardcenter.com/wp-content/uploads/2025/07/CORP_Hadestown_1920x1080.jpg
END:VEVENT
BEGIN:VEVENT
DTSTART;TZID=America/Chicago:20260604T180000
DTEND;TZID=America/Chicago:20260604T200000
DTSTAMP:20260421T165144
CREATED:20260406T165637Z
LAST-MODIFIED:20260406T165638Z
UID:10001633-1780596000-1780603200@www.hilliardcenter.com
SUMMARY:Coles High School Graduation
DESCRIPTION:Doors open at 5:30PM
URL:https://www.hilliardcenter.com/event/coles-high-school-graduation/
LOCATION:Arena\, 1901 N. Shoreline Blvd\, Corpus Christi\, 78401\, United States
ATTACH;FMTTYPE=image/jpeg:https://www.hilliardcenter.com/wp-content/uploads/2026/04/Coles-Graduation-Generic-TV.jpg
END:VEVENT
BEGIN:VEVENT
DTSTART;TZID=America/Chicago:20260605T120000
DTEND;TZID=America/Chicago:20260605T190000
DTSTAMP:20260421T165144
CREATED:20260325T203310Z
LAST-MODIFIED:20260325T203310Z
UID:10001623-1780660800-1780686000@www.hilliardcenter.com
SUMMARY:Corpus Christi Comic Con: 2026 Mulitverse Day 1
DESCRIPTION:For more information on Corpus Christi Comic Con please visit their website here
URL:https://www.hilliardcenter.com/event/corpus-christi-comic-con-2026-mulitverse-day-1/
LOCATION:Convention Center\, 1901 N. Shoreline Blvd\, Corpus Christi\, TX\, 78401\, United States
ATTACH;FMTTYPE=image/jpeg:https://www.hilliardcenter.com/wp-content/uploads/2026/03/WEBSITE-HEADER.jpg
END:VEVENT
BEGIN:VEVENT
DTSTART;TZID=America/Chicago:20260605T190000
DTEND;TZID=America/Chicago:20260605T190000
DTSTAMP:20260421T165144
CREATED:20250903T004126Z
LAST-MODIFIED:20250909T183848Z
UID:10001481-1780686000-1780686000@www.hilliardcenter.com
SUMMARY:Nate Bargatze - Big Dumb Eyes World Tour
DESCRIPTION:Nate Bargatze – Big Dumb Eyes World Tour\nDate: Friday\, June 5\, 2026 at 7:00PM \nTickets are available now!
URL:https://www.hilliardcenter.com/event/nate-bargatze-big-dumb-eyes-world-tour/
LOCATION:Arena\, 1901 N. Shoreline Blvd\, Corpus Christi\, 78401\, United States
ATTACH;FMTTYPE=image/jpeg:https://www.hilliardcenter.com/wp-content/uploads/2025/09/NateBargatze_CCTX_1920x1080_REV.jpg
END:VEVENT
BEGIN:VEVENT
DTSTART;TZID=America/Chicago:20260606T100000
DTEND;TZID=America/Chicago:20260606T180000
DTSTAMP:20260421T165144
CREATED:20260325T203505Z
LAST-MODIFIED:20260325T203505Z
UID:10001624-1780740000-1780768800@www.hilliardcenter.com
SUMMARY:Corpus Christi Comic Con: 2026 Mulitverse Day 2
DESCRIPTION:For more information on Corpus Christi Comic Con please visit their website here
URL:https://www.hilliardcenter.com/event/corpus-christi-comic-con-2026-mulitverse-day-2/
LOCATION:Convention Center\, 1901 N. Shoreline Blvd\, Corpus Christi\, TX\, 78401\, United States
ATTACH;FMTTYPE=image/jpeg:https://www.hilliardcenter.com/wp-content/uploads/2026/03/WEBSITE-HEADER.jpg
END:VEVENT
BEGIN:VEVENT
DTSTART;TZID=America/Chicago:20260607T100000
DTEND;TZID=America/Chicago:20260607T170000
DTSTAMP:20260421T165144
CREATED:20260325T203633Z
LAST-MODIFIED:20260325T203633Z
UID:10001625-1780826400-1780851600@www.hilliardcenter.com
SUMMARY:Corpus Christi Comic Con: 2026 Mulitverse Day 3
DESCRIPTION:For more information on Corpus Christi Comic Con please visit their website here
URL:https://www.hilliardcenter.com/event/corpus-christi-comic-con-2026-mulitverse-day-3/
LOCATION:Convention Center\, 1901 N. Shoreline Blvd\, Corpus Christi\, TX\, 78401\, United States
ATTACH;FMTTYPE=image/jpeg:https://www.hilliardcenter.com/wp-content/uploads/2026/03/WEBSITE-HEADER.jpg
END:VEVENT
BEGIN:VEVENT
DTSTART;TZID=America/Chicago:20260612T193000
DTEND;TZID=America/Chicago:20260612T193000
DTSTAMP:20260421T165144
CREATED:20260119T220159Z
LAST-MODIFIED:20260309T143013Z
UID:10001569-1781292600-1781292600@www.hilliardcenter.com
SUMMARY:Ralph Barbosa: The Red 40 Tour
DESCRIPTION:EVENT: Ralph Barbosa: The Red 40 Tour\nDATE:  Friday\, June 12\, 2026\, at 7:30PM\nLOCATION: Selena Auditorium\n \nTICKET PRICES: Starting at $35.75\nTickets available at Ticketmaster or Arena box office.\nThis show is restricted to guests ages 18+.\n  \n*Yondr Fan Advisory \nThis event will be a phone-free experience. Use of cellphones\, smart watches\, smart accessories\, cameras\, or recording devices will not be permitted in the performance space. \nUpon arrival at the venue\, all phones\, smart watches\, and accessories will be secured in Yondr pouches that will be opened at the end of the event. Guests maintain possession of their belongings at all times and can access their phones throughout the event at designated Phone Use Areas in the venue. All phones will be re-secured in Yondr pouches before returning to the event space. \nAnyone seen using a non-permitted device during the performance will be escorted out of the venue. Guests are encouraged to bring a credit card for purchases inside the venue. We appreciate your cooperation in creating a phone-free viewing experience.
URL:https://www.hilliardcenter.com/event/ralph-barbosa-the-red-40-tour/
LOCATION:Selena Auditorium\, 1901 N. Shoreline Blvd\, Corpus Christi\, TX\, 78401\, United States
ATTACH;FMTTYPE=image/jpeg:https://www.hilliardcenter.com/wp-content/uploads/2026/01/RalphBarbosa_CCTX_1920x1080.jpg
END:VEVENT
END:VCALENDAR