BEGIN:VCALENDAR
VERSION:2.0
PRODID:-//Hilliard Center - ECPv6.15.20//NONSGML v1.0//EN
CALSCALE:GREGORIAN
METHOD:PUBLISH
X-WR-CALNAME:Hilliard Center
X-ORIGINAL-URL:https://www.hilliardcenter.com
X-WR-CALDESC:Events for Hilliard Center
REFRESH-INTERVAL;VALUE=DURATION:PT1H
X-Robots-Tag:noindex
X-PUBLISHED-TTL:PT1H
BEGIN:VTIMEZONE
TZID:America/Chicago
BEGIN:DAYLIGHT
TZOFFSETFROM:-0600
TZOFFSETTO:-0500
TZNAME:CDT
DTSTART:20250309T080000
END:DAYLIGHT
BEGIN:STANDARD
TZOFFSETFROM:-0500
TZOFFSETTO:-0600
TZNAME:CST
DTSTART:20251102T070000
END:STANDARD
BEGIN:DAYLIGHT
TZOFFSETFROM:-0600
TZOFFSETTO:-0500
TZNAME:CDT
DTSTART:20260308T080000
END:DAYLIGHT
BEGIN:STANDARD
TZOFFSETFROM:-0500
TZOFFSETTO:-0600
TZNAME:CST
DTSTART:20261101T070000
END:STANDARD
BEGIN:DAYLIGHT
TZOFFSETFROM:-0600
TZOFFSETTO:-0500
TZNAME:CDT
DTSTART:20270314T080000
END:DAYLIGHT
BEGIN:STANDARD
TZOFFSETFROM:-0500
TZOFFSETTO:-0600
TZNAME:CST
DTSTART:20271107T070000
END:STANDARD
END:VTIMEZONE
BEGIN:VEVENT
DTSTART;TZID=America/Chicago:20260322T143000
DTEND;TZID=America/Chicago:20260322T143000
DTSTAMP:20260422T093913
CREATED:20250909T151749Z
LAST-MODIFIED:20260319T195417Z
UID:10001487-1774189800-1774189800@www.hilliardcenter.com
SUMMARY:Hot Wheels Monster Trucks Live!
DESCRIPTION:What: Hot Wheels Monster Trucks Live is coming to Hilliard Center Arena with three high-octane shows featuring your favorite Hot Wheels monster trucks\, epic stunts\, and family-friendly fun. \nWhen: \n\nSaturday\, March 21\, 2026 | 12:30 PM & 7:30 PM\nSunday\, March 22\, 2026 | 2:30 PM\n\nWhere: Hilliard Center Arena \nTickets are available now! \nSee the Hot Wheels Monster Trucks up close and personal\, exclusively guided by the hosts of Hot Wheels Monster Trucks Live! Experience what happens behind the scenes before all the smashing and crashing goes down and then watch when the Hot Wheels Monster Trucks come to life\, includes a VIP merch bundle and access to the Pre-Show Party HERE
URL:https://www.hilliardcenter.com/event/hot-wheels-monster-trucks-live-2/
LOCATION:Arena\, 1901 N. Shoreline Blvd\, Corpus Christi\, 78401\, United States
ATTACH;FMTTYPE=image/jpeg:https://www.hilliardcenter.com/wp-content/uploads/2025/09/HWMTL26_KeyArt_Rhinomite_1920x1080_Corpus-Christi-TX.jpg
END:VEVENT
BEGIN:VEVENT
DTSTART;TZID=America/Chicago:20260322T080000
DTEND;TZID=America/Chicago:20260322T150000
DTSTAMP:20260422T093913
CREATED:20260227T171501Z
LAST-MODIFIED:20260227T171530Z
UID:10001595-1774166400-1774191600@www.hilliardcenter.com
SUMMARY:Competencia Folklorica De Tejas - Day 2
DESCRIPTION:XIV COMPETENCIA FOLKLÓRICA DE TEJASMexican Folk Dance CompetitionMarch 21-22\, 2026 | Corpus Christi\, Texas\nwww.alcortasdance.org/cft\nWitness amazing ballet folklorico dancers from across the USA and Mexico take to the stage with their most impressive and colorful dances as they dazzle spectators and are adjudicated by master teachers and dance professionals.\nThis program is funded by Hotel Occupancy Tax funds by the City of Corpus Christi through the Arts & Cultural Commission\, as well as support the National Endowment for the Arts\, Texas Commission on the Arts\, H-E-B\, and Alcorta’s Folklórico Diamante\, Inc.\nHilliard Center – Selena Auditorium1901 N. Shoreline Blvd. Corpus Christi\, Texas 78401\nTickets at Box Office OnlyDaily: $10Weekend Pass: $15
URL:https://www.hilliardcenter.com/event/competencia-folklorica-de-tejas-day-2/
LOCATION:Convention Center\, 1901 N. Shoreline Blvd\, Corpus Christi\, TX\, 78401\, United States
ATTACH;FMTTYPE=image/jpeg:https://www.hilliardcenter.com/wp-content/uploads/2026/02/617670668_1322099826616698_5718544623372624909_n-1.jpg
END:VEVENT
BEGIN:VEVENT
DTSTART;TZID=America/Chicago:20260321T193000
DTEND;TZID=America/Chicago:20260321T193000
DTSTAMP:20260422T093913
CREATED:20250909T151553Z
LAST-MODIFIED:20260319T195456Z
UID:10001486-1774121400-1774121400@www.hilliardcenter.com
SUMMARY:Hot Wheels Monster Trucks Live!
DESCRIPTION:What: Hot Wheels Monster Trucks Live is coming to Hilliard Center Arena with three high-octane shows featuring your favorite Hot Wheels monster trucks\, epic stunts\, and family-friendly fun. \nWhen: \n\nSaturday\, March 21\, 2026 | 12:30 PM & 7:30 PM\nSunday\, March 22\, 2026 | 2:30 PM\n\nWhere: Hilliard Center Arena \nTickets are available now! \nSee the Hot Wheels Monster Trucks up close and personal\, exclusively guided by the hosts of Hot Wheels Monster Trucks Live! Experience what happens behind the scenes before all the smashing and crashing goes down and then watch when the Hot Wheels Monster Trucks come to life\, includes a VIP merch bundle and access to the Pre-Show Party. GRAB HERE
URL:https://www.hilliardcenter.com/event/hot-wheels-monster-trucks-live/
LOCATION:Arena\, 1901 N. Shoreline Blvd\, Corpus Christi\, 78401\, United States
ATTACH;FMTTYPE=image/jpeg:https://www.hilliardcenter.com/wp-content/uploads/2025/09/HWMTL26_KeyArt_Rhinomite_1920x1080_Corpus-Christi-TX.jpg
END:VEVENT
BEGIN:VEVENT
DTSTART;TZID=America/Chicago:20260321T080000
DTEND;TZID=America/Chicago:20260321T150000
DTSTAMP:20260422T093913
CREATED:20260227T171156Z
LAST-MODIFIED:20260227T171223Z
UID:10001594-1774080000-1774105200@www.hilliardcenter.com
SUMMARY:Competencia Folklorica De Tejas - Day 1
DESCRIPTION:XIV COMPETENCIA FOLKLÓRICA DE TEJASMexican Folk Dance CompetitionMarch 21-22\, 2026 | Corpus Christi\, Texas\nwww.alcortasdance.org/cft\nWitness amazing ballet folklorico dancers from across the USA and Mexico take to the stage with their most impressive and colorful dances as they dazzle spectators and are adjudicated by master teachers and dance professionals.\nThis program is funded by Hotel Occupancy Tax funds by the City of Corpus Christi through the Arts & Cultural Commission\, as well as support the National Endowment for the Arts\, Texas Commission on the Arts\, H-E-B\, and Alcorta’s Folklórico Diamante\, Inc.\nHilliard Center – Selena Auditorium1901 N. Shoreline Blvd. Corpus Christi\, Texas 78401\nTickets at Box Office OnlyDaily: $10Weekend Pass: $15
URL:https://www.hilliardcenter.com/event/competencia-folklorica-de-tejas/
LOCATION:Convention Center\, 1901 N. Shoreline Blvd\, Corpus Christi\, TX\, 78401\, United States
ATTACH;FMTTYPE=image/jpeg:https://www.hilliardcenter.com/wp-content/uploads/2026/02/617670668_1322099826616698_5718544623372624909_n-1.jpg
END:VEVENT
END:VCALENDAR