BEGIN:VCALENDAR
VERSION:2.0
PRODID:-//Hilliard Center - ECPv6.15.20//NONSGML v1.0//EN
CALSCALE:GREGORIAN
METHOD:PUBLISH
X-WR-CALNAME:Hilliard Center
X-ORIGINAL-URL:https://www.hilliardcenter.com
X-WR-CALDESC:Events for Hilliard Center
REFRESH-INTERVAL;VALUE=DURATION:PT1H
X-Robots-Tag:noindex
X-PUBLISHED-TTL:PT1H
BEGIN:VTIMEZONE
TZID:America/Chicago
BEGIN:DAYLIGHT
TZOFFSETFROM:-0600
TZOFFSETTO:-0500
TZNAME:CDT
DTSTART:20250309T080000
END:DAYLIGHT
BEGIN:STANDARD
TZOFFSETFROM:-0500
TZOFFSETTO:-0600
TZNAME:CST
DTSTART:20251102T070000
END:STANDARD
BEGIN:DAYLIGHT
TZOFFSETFROM:-0600
TZOFFSETTO:-0500
TZNAME:CDT
DTSTART:20260308T080000
END:DAYLIGHT
BEGIN:STANDARD
TZOFFSETFROM:-0500
TZOFFSETTO:-0600
TZNAME:CST
DTSTART:20261101T070000
END:STANDARD
BEGIN:DAYLIGHT
TZOFFSETFROM:-0600
TZOFFSETTO:-0500
TZNAME:CDT
DTSTART:20270314T080000
END:DAYLIGHT
BEGIN:STANDARD
TZOFFSETFROM:-0500
TZOFFSETTO:-0600
TZNAME:CST
DTSTART:20271107T070000
END:STANDARD
END:VTIMEZONE
BEGIN:VEVENT
DTSTART;TZID=America/Chicago:20260402T080000
DTEND;TZID=America/Chicago:20260402T170000
DTSTAMP:20260422T165650
CREATED:20260304T172004Z
LAST-MODIFIED:20260304T172145Z
UID:10001596-1775116800-1775149200@www.hilliardcenter.com
SUMMARY:TPCA Conference - Day 5
DESCRIPTION:For more information please visit the TPCA Conference Website
URL:https://www.hilliardcenter.com/event/tpca-conference-day-5/
LOCATION:Convention Center\, 1901 N. Shoreline Blvd\, Corpus Christi\, TX\, 78401\, United States
ATTACH;FMTTYPE=image/jpeg:https://www.hilliardcenter.com/wp-content/uploads/2026/02/tpcabanner.jpg
END:VEVENT
BEGIN:VEVENT
DTSTART;TZID=America/Chicago:20260401T080000
DTEND;TZID=America/Chicago:20260401T170000
DTSTAMP:20260422T165650
CREATED:20260227T170548Z
LAST-MODIFIED:20260227T170548Z
UID:10001593-1775030400-1775062800@www.hilliardcenter.com
SUMMARY:TPCA Conference - Day 4
DESCRIPTION:For more information please visit the TPCA Conference Website
URL:https://www.hilliardcenter.com/event/tpca-conference-day-4/
LOCATION:Convention Center\, 1901 N. Shoreline Blvd\, Corpus Christi\, TX\, 78401\, United States
ATTACH;FMTTYPE=image/jpeg:https://www.hilliardcenter.com/wp-content/uploads/2026/02/tpcabanner.jpg
END:VEVENT
BEGIN:VEVENT
DTSTART;TZID=America/Chicago:20260331T080000
DTEND;TZID=America/Chicago:20260331T170000
DTSTAMP:20260422T165650
CREATED:20260227T170502Z
LAST-MODIFIED:20260227T170502Z
UID:10001592-1774944000-1774976400@www.hilliardcenter.com
SUMMARY:TPCA Conference - Day 3
DESCRIPTION:For more information please visit the TPCA Conference Website
URL:https://www.hilliardcenter.com/event/tpca-conference-day-3/
LOCATION:Convention Center\, 1901 N. Shoreline Blvd\, Corpus Christi\, TX\, 78401\, United States
ATTACH;FMTTYPE=image/jpeg:https://www.hilliardcenter.com/wp-content/uploads/2026/02/tpcabanner.jpg
END:VEVENT
BEGIN:VEVENT
DTSTART;TZID=America/Chicago:20260330T080000
DTEND;TZID=America/Chicago:20260330T170000
DTSTAMP:20260422T165650
CREATED:20260227T170326Z
LAST-MODIFIED:20260227T170612Z
UID:10001591-1774857600-1774890000@www.hilliardcenter.com
SUMMARY:TPCA Conference - Day 2
DESCRIPTION:For more information please visit the TPCA Conference Website
URL:https://www.hilliardcenter.com/event/tpca-conference-day-2/
LOCATION:Convention Center\, 1901 N. Shoreline Blvd\, Corpus Christi\, TX\, 78401\, United States
ATTACH;FMTTYPE=image/jpeg:https://www.hilliardcenter.com/wp-content/uploads/2026/02/tpcabanner.jpg
END:VEVENT
BEGIN:VEVENT
DTSTART;TZID=America/Chicago:20260329T080000
DTEND;TZID=America/Chicago:20260329T170000
DTSTAMP:20260422T165650
CREATED:20260227T170217Z
LAST-MODIFIED:20260227T170218Z
UID:10001590-1774771200-1774803600@www.hilliardcenter.com
SUMMARY:TPCA Conference - Day 1
DESCRIPTION:For more information please visit the TPCA Conference Website
URL:https://www.hilliardcenter.com/event/tpca-conference-day-1/
LOCATION:Convention Center\, 1901 N. Shoreline Blvd\, Corpus Christi\, TX\, 78401\, United States
ATTACH;FMTTYPE=image/jpeg:https://www.hilliardcenter.com/wp-content/uploads/2026/02/tpcabanner.jpg
END:VEVENT
BEGIN:VEVENT
DTSTART;TZID=America/Chicago:20260328T190000
DTEND;TZID=America/Chicago:20260328T190000
DTSTAMP:20260422T165650
CREATED:20250804T172441Z
LAST-MODIFIED:20250804T184752Z
UID:10001477-1774724400-1774724400@www.hilliardcenter.com
SUMMARY:Corpus Christi IceRays vs El Paso Rhinos
DESCRIPTION:Corpus Christi IceRays Hockey 2025-2026 Season\nPrices: $25\, $15\, $12\, $10\nKids 12 and under FREE Admission\nGroup Ticket Discounts: Contact IceRays at 361-814-7825
URL:https://www.hilliardcenter.com/event/corpus-christi-icerays-vs-el-paso-rhinos-4/
LOCATION:Arena\, 1901 N. Shoreline Blvd\, Corpus Christi\, 78401\, United States
ATTACH;FMTTYPE=image/jpeg:https://www.hilliardcenter.com/wp-content/uploads/2025/08/header-2526.jpg
END:VEVENT
BEGIN:VEVENT
DTSTART;TZID=America/Chicago:20260328T120000
DTEND;TZID=America/Chicago:20260328T180000
DTSTAMP:20260422T165650
CREATED:20260227T164735Z
LAST-MODIFIED:20260324T184815Z
UID:10001586-1774699200-1774720800@www.hilliardcenter.com
SUMMARY:Corpus Christi Car Show
DESCRIPTION:For more information visit the Corpus Christi Car Show Website
URL:https://www.hilliardcenter.com/event/corpus-christi-car-show/
LOCATION:Convention Center\, 1901 N. Shoreline Blvd\, Corpus Christi\, TX\, 78401\, United States
ATTACH;FMTTYPE=image/jpeg:https://www.hilliardcenter.com/wp-content/uploads/2026/02/621608397_1200590258921381_9140167402904043691_n.jpg
END:VEVENT
BEGIN:VEVENT
DTSTART;TZID=America/Chicago:20260327T190000
DTEND;TZID=America/Chicago:20260327T190000
DTSTAMP:20260422T165650
CREATED:20250804T172314Z
LAST-MODIFIED:20250804T172315Z
UID:10001476-1774638000-1774638000@www.hilliardcenter.com
SUMMARY:Corpus Christi IceRays vs El Paso Rhinos
DESCRIPTION:Corpus Christi IceRays Hockey 2025-2026 Season\nPrices: $25\, $15\, $12\, $10\nKids 12 and under FREE Admission\nGroup Ticket Discounts: Contact IceRays at 361-814-7825
URL:https://www.hilliardcenter.com/event/corpus-christi-icerays-vs-el-paso-rhinos-3/
LOCATION:Arena\, 1901 N. Shoreline Blvd\, Corpus Christi\, 78401\, United States
ATTACH;FMTTYPE=image/jpeg:https://www.hilliardcenter.com/wp-content/uploads/2025/08/header-2526.jpg
END:VEVENT
BEGIN:VEVENT
DTSTART;TZID=America/Chicago:20260326T080000
DTEND;TZID=America/Chicago:20260326T170000
DTSTAMP:20260422T165650
CREATED:20260227T164200Z
LAST-MODIFIED:20260227T223819Z
UID:10001589-1774512000-1774544400@www.hilliardcenter.com
SUMMARY:Texas State Leadership Conference - Day 4
DESCRIPTION:For more information visit the Texas HOSA State Leadership Conference Website
URL:https://www.hilliardcenter.com/event/texas-state-leadership-conference-day-4/
LOCATION:Convention Center\, 1901 N. Shoreline Blvd\, Corpus Christi\, TX\, 78401\, United States
ATTACH;FMTTYPE=image/jpeg:https://www.hilliardcenter.com/wp-content/uploads/2026/01/Venue-Logo-Neutral-Background-1920x1080-2.jpg
END:VEVENT
BEGIN:VEVENT
DTSTART;TZID=America/Chicago:20260325T080000
DTEND;TZID=America/Chicago:20260325T170000
DTSTAMP:20260422T165650
CREATED:20260227T164055Z
LAST-MODIFIED:20260227T223910Z
UID:10001588-1774425600-1774458000@www.hilliardcenter.com
SUMMARY:Texas HOSA State Leadership Conference - Day 3
DESCRIPTION:For more information visit the Texas HOSA State Leadership Conference Website
URL:https://www.hilliardcenter.com/event/texas-hosa-state-leadership-conference-day-3/
LOCATION:Convention Center\, 1901 N. Shoreline Blvd\, Corpus Christi\, TX\, 78401\, United States
ATTACH;FMTTYPE=image/jpeg:https://www.hilliardcenter.com/wp-content/uploads/2026/01/Venue-Logo-Neutral-Background-1920x1080-2.jpg
END:VEVENT
BEGIN:VEVENT
DTSTART;TZID=America/Chicago:20260324T080000
DTEND;TZID=America/Chicago:20260324T170000
DTSTAMP:20260422T165650
CREATED:20260227T163931Z
LAST-MODIFIED:20260227T223617Z
UID:10001587-1774339200-1774371600@www.hilliardcenter.com
SUMMARY:Texas HOSA State Leadership Conference - Day 2
DESCRIPTION:For more information visit the Texas HOSA State Leadership Conference Website
URL:https://www.hilliardcenter.com/event/texas-hosa-state-leadership-conference-day-2/
LOCATION:Convention Center\, 1901 N. Shoreline Blvd\, Corpus Christi\, TX\, 78401\, United States
ATTACH;FMTTYPE=image/jpeg:https://www.hilliardcenter.com/wp-content/uploads/2026/01/Venue-Logo-Neutral-Background-1920x1080-2.jpg
END:VEVENT
BEGIN:VEVENT
DTSTART;TZID=America/Chicago:20260323T080000
DTEND;TZID=America/Chicago:20260326T170000
DTSTAMP:20260422T165650
CREATED:20260227T163237Z
LAST-MODIFIED:20260227T223521Z
UID:10001585-1774252800-1774544400@www.hilliardcenter.com
SUMMARY:Texas HOSA State Leadership Conference - Day 1
DESCRIPTION:For more information visit the Texas HOSA State Leadership Conference Website
URL:https://www.hilliardcenter.com/event/texas-hosa-state-leadership-conference/
LOCATION:Convention Center\, 1901 N. Shoreline Blvd\, Corpus Christi\, TX\, 78401\, United States
ATTACH;FMTTYPE=image/jpeg:https://www.hilliardcenter.com/wp-content/uploads/2026/01/Venue-Logo-Neutral-Background-1920x1080-2.jpg
END:VEVENT
BEGIN:VEVENT
DTSTART;TZID=America/Chicago:20260322T143000
DTEND;TZID=America/Chicago:20260322T143000
DTSTAMP:20260422T165650
CREATED:20250909T151749Z
LAST-MODIFIED:20260319T195417Z
UID:10001487-1774189800-1774189800@www.hilliardcenter.com
SUMMARY:Hot Wheels Monster Trucks Live!
DESCRIPTION:What: Hot Wheels Monster Trucks Live is coming to Hilliard Center Arena with three high-octane shows featuring your favorite Hot Wheels monster trucks\, epic stunts\, and family-friendly fun. \nWhen: \n\nSaturday\, March 21\, 2026 | 12:30 PM & 7:30 PM\nSunday\, March 22\, 2026 | 2:30 PM\n\nWhere: Hilliard Center Arena \nTickets are available now! \nSee the Hot Wheels Monster Trucks up close and personal\, exclusively guided by the hosts of Hot Wheels Monster Trucks Live! Experience what happens behind the scenes before all the smashing and crashing goes down and then watch when the Hot Wheels Monster Trucks come to life\, includes a VIP merch bundle and access to the Pre-Show Party HERE
URL:https://www.hilliardcenter.com/event/hot-wheels-monster-trucks-live-2/
LOCATION:Arena\, 1901 N. Shoreline Blvd\, Corpus Christi\, 78401\, United States
ATTACH;FMTTYPE=image/jpeg:https://www.hilliardcenter.com/wp-content/uploads/2025/09/HWMTL26_KeyArt_Rhinomite_1920x1080_Corpus-Christi-TX.jpg
END:VEVENT
BEGIN:VEVENT
DTSTART;TZID=America/Chicago:20260322T080000
DTEND;TZID=America/Chicago:20260322T150000
DTSTAMP:20260422T165650
CREATED:20260227T171501Z
LAST-MODIFIED:20260227T171530Z
UID:10001595-1774166400-1774191600@www.hilliardcenter.com
SUMMARY:Competencia Folklorica De Tejas - Day 2
DESCRIPTION:XIV COMPETENCIA FOLKLÓRICA DE TEJASMexican Folk Dance CompetitionMarch 21-22\, 2026 | Corpus Christi\, Texas\nwww.alcortasdance.org/cft\nWitness amazing ballet folklorico dancers from across the USA and Mexico take to the stage with their most impressive and colorful dances as they dazzle spectators and are adjudicated by master teachers and dance professionals.\nThis program is funded by Hotel Occupancy Tax funds by the City of Corpus Christi through the Arts & Cultural Commission\, as well as support the National Endowment for the Arts\, Texas Commission on the Arts\, H-E-B\, and Alcorta’s Folklórico Diamante\, Inc.\nHilliard Center – Selena Auditorium1901 N. Shoreline Blvd. Corpus Christi\, Texas 78401\nTickets at Box Office OnlyDaily: $10Weekend Pass: $15
URL:https://www.hilliardcenter.com/event/competencia-folklorica-de-tejas-day-2/
LOCATION:Convention Center\, 1901 N. Shoreline Blvd\, Corpus Christi\, TX\, 78401\, United States
ATTACH;FMTTYPE=image/jpeg:https://www.hilliardcenter.com/wp-content/uploads/2026/02/617670668_1322099826616698_5718544623372624909_n-1.jpg
END:VEVENT
BEGIN:VEVENT
DTSTART;TZID=America/Chicago:20260321T193000
DTEND;TZID=America/Chicago:20260321T193000
DTSTAMP:20260422T165650
CREATED:20250909T151553Z
LAST-MODIFIED:20260319T195456Z
UID:10001486-1774121400-1774121400@www.hilliardcenter.com
SUMMARY:Hot Wheels Monster Trucks Live!
DESCRIPTION:What: Hot Wheels Monster Trucks Live is coming to Hilliard Center Arena with three high-octane shows featuring your favorite Hot Wheels monster trucks\, epic stunts\, and family-friendly fun. \nWhen: \n\nSaturday\, March 21\, 2026 | 12:30 PM & 7:30 PM\nSunday\, March 22\, 2026 | 2:30 PM\n\nWhere: Hilliard Center Arena \nTickets are available now! \nSee the Hot Wheels Monster Trucks up close and personal\, exclusively guided by the hosts of Hot Wheels Monster Trucks Live! Experience what happens behind the scenes before all the smashing and crashing goes down and then watch when the Hot Wheels Monster Trucks come to life\, includes a VIP merch bundle and access to the Pre-Show Party. GRAB HERE
URL:https://www.hilliardcenter.com/event/hot-wheels-monster-trucks-live/
LOCATION:Arena\, 1901 N. Shoreline Blvd\, Corpus Christi\, 78401\, United States
ATTACH;FMTTYPE=image/jpeg:https://www.hilliardcenter.com/wp-content/uploads/2025/09/HWMTL26_KeyArt_Rhinomite_1920x1080_Corpus-Christi-TX.jpg
END:VEVENT
BEGIN:VEVENT
DTSTART;TZID=America/Chicago:20260321T080000
DTEND;TZID=America/Chicago:20260321T150000
DTSTAMP:20260422T165650
CREATED:20260227T171156Z
LAST-MODIFIED:20260227T171223Z
UID:10001594-1774080000-1774105200@www.hilliardcenter.com
SUMMARY:Competencia Folklorica De Tejas - Day 1
DESCRIPTION:XIV COMPETENCIA FOLKLÓRICA DE TEJASMexican Folk Dance CompetitionMarch 21-22\, 2026 | Corpus Christi\, Texas\nwww.alcortasdance.org/cft\nWitness amazing ballet folklorico dancers from across the USA and Mexico take to the stage with their most impressive and colorful dances as they dazzle spectators and are adjudicated by master teachers and dance professionals.\nThis program is funded by Hotel Occupancy Tax funds by the City of Corpus Christi through the Arts & Cultural Commission\, as well as support the National Endowment for the Arts\, Texas Commission on the Arts\, H-E-B\, and Alcorta’s Folklórico Diamante\, Inc.\nHilliard Center – Selena Auditorium1901 N. Shoreline Blvd. Corpus Christi\, Texas 78401\nTickets at Box Office OnlyDaily: $10Weekend Pass: $15
URL:https://www.hilliardcenter.com/event/competencia-folklorica-de-tejas/
LOCATION:Convention Center\, 1901 N. Shoreline Blvd\, Corpus Christi\, TX\, 78401\, United States
ATTACH;FMTTYPE=image/jpeg:https://www.hilliardcenter.com/wp-content/uploads/2026/02/617670668_1322099826616698_5718544623372624909_n-1.jpg
END:VEVENT
END:VCALENDAR