BEGIN:VCALENDAR
VERSION:2.0
PRODID:-//Hilliard Center - ECPv6.15.18//NONSGML v1.0//EN
CALSCALE:GREGORIAN
METHOD:PUBLISH
X-ORIGINAL-URL:https://www.hilliardcenter.com
X-WR-CALDESC:Events for Hilliard Center
REFRESH-INTERVAL;VALUE=DURATION:PT1H
X-Robots-Tag:noindex
X-PUBLISHED-TTL:PT1H
BEGIN:VTIMEZONE
TZID:America/Chicago
BEGIN:DAYLIGHT
TZOFFSETFROM:-0600
TZOFFSETTO:-0500
TZNAME:CDT
DTSTART:20250309T080000
END:DAYLIGHT
BEGIN:STANDARD
TZOFFSETFROM:-0500
TZOFFSETTO:-0600
TZNAME:CST
DTSTART:20251102T070000
END:STANDARD
BEGIN:DAYLIGHT
TZOFFSETFROM:-0600
TZOFFSETTO:-0500
TZNAME:CDT
DTSTART:20260308T080000
END:DAYLIGHT
BEGIN:STANDARD
TZOFFSETFROM:-0500
TZOFFSETTO:-0600
TZNAME:CST
DTSTART:20261101T070000
END:STANDARD
BEGIN:DAYLIGHT
TZOFFSETFROM:-0600
TZOFFSETTO:-0500
TZNAME:CDT
DTSTART:20270314T080000
END:DAYLIGHT
BEGIN:STANDARD
TZOFFSETFROM:-0500
TZOFFSETTO:-0600
TZNAME:CST
DTSTART:20271107T070000
END:STANDARD
END:VTIMEZONE
BEGIN:VEVENT
DTSTART;TZID=America/Chicago:20260920T150000
DTEND;TZID=America/Chicago:20260920T150000
DTSTAMP:20260421T054533
CREATED:20260415T135953Z
LAST-MODIFIED:20260415T140346Z
UID:10001634-1789916400-1789916400@www.hilliardcenter.com
SUMMARY:Bored Teachers: Is It Friday Yet?!
DESCRIPTION:They’ve graded the papers\, survived the staff meetings\, and lost their last ounce of patience… and now they’re taking it out on stage! \nBored Teachers is BACK with brand-new jokes\, bigger laughs\, and the most relatable teacher comedy you’ll ever hear. For nearly a decade\, Bored Teachers has been the #1 voice of teacher humor—racking up over 1 billion views\, amassing 10 million+ followers\, and hosting the #1 teacher-comedy podcast on the planet. \nSince 2022\, they’ve performed for 200\,000+ teachers worldwide\, and sold out 200+ theaters across 49 states\, 5 countries\, and 3 continents. Their BRAND NEW “Is It Friday Yet?!”” Tour starting January 2026 is more than a comedy show—it’s the ultimate night of laughter and solidarity for anyone who’s ever worked in education\, taught a lesson\, or just survived parent-teacher conferences. \nGet ready to laugh until you cry as the funniest teacher-comedians in the world share their side-splitting stories\, savage truths\, and hilarious classroom confessions. Whether you’re a teacher\, a parent\, or just someone who’s been in school\, this show will have you nodding\, clapping\, and hollering\, “That’s SO TRUE!” \n  \nWarning: May contain PG-13 language\, teacher truths\, and uncontrollable fits of laughter. \n\n\n\n🎟️ Venue Presale is Friday\, April 17 at 10AM o Monday\, April 20\, at 9AM with the code: COMEDY\n\n\n🎟️ Tickets go on sale Monday\, April 20 at 10AM
URL:https://www.hilliardcenter.com/event/bored-teachers-is-it-friday-yet/
LOCATION:Selena Auditorium\, 1901 N. Shoreline Blvd\, Corpus Christi\, TX\, 78401\, United States
ATTACH;FMTTYPE=image/jpeg:https://www.hilliardcenter.com/wp-content/uploads/2026/04/BoredTeachers_CCTX_1920x1080.jpg
END:VEVENT
END:VCALENDAR