BEGIN:VCALENDAR
VERSION:2.0
PRODID:-//Hilliard Center - ECPv6.15.18//NONSGML v1.0//EN
CALSCALE:GREGORIAN
METHOD:PUBLISH
X-ORIGINAL-URL:https://www.hilliardcenter.com
X-WR-CALDESC:Events for Hilliard Center
REFRESH-INTERVAL;VALUE=DURATION:PT1H
X-Robots-Tag:noindex
X-PUBLISHED-TTL:PT1H
BEGIN:VTIMEZONE
TZID:America/Chicago
BEGIN:DAYLIGHT
TZOFFSETFROM:-0600
TZOFFSETTO:-0500
TZNAME:CDT
DTSTART:20250309T080000
END:DAYLIGHT
BEGIN:STANDARD
TZOFFSETFROM:-0500
TZOFFSETTO:-0600
TZNAME:CST
DTSTART:20251102T070000
END:STANDARD
BEGIN:DAYLIGHT
TZOFFSETFROM:-0600
TZOFFSETTO:-0500
TZNAME:CDT
DTSTART:20260308T080000
END:DAYLIGHT
BEGIN:STANDARD
TZOFFSETFROM:-0500
TZOFFSETTO:-0600
TZNAME:CST
DTSTART:20261101T070000
END:STANDARD
BEGIN:DAYLIGHT
TZOFFSETFROM:-0600
TZOFFSETTO:-0500
TZNAME:CDT
DTSTART:20270314T080000
END:DAYLIGHT
BEGIN:STANDARD
TZOFFSETFROM:-0500
TZOFFSETTO:-0600
TZNAME:CST
DTSTART:20271107T070000
END:STANDARD
END:VTIMEZONE
BEGIN:VEVENT
DTSTART;TZID=America/Chicago:20261122T190000
DTEND;TZID=America/Chicago:20261122T190000
DTSTAMP:20260421T083155
CREATED:20260317T145553Z
LAST-MODIFIED:20260320T215045Z
UID:10001607-1795374000-1795374000@www.hilliardcenter.com
SUMMARY:John Crist LIVE
DESCRIPTION:Combining sharp wit\, tactfully-unhinged stand-up and viral sketches\, John Crist is one of today’s most distinctive\, fastest-rising comedic voices. With more than one billion video views and 8 million followers\, Crist consistently ranks among Pollstar’s Top 10 Global Touring Comedians. Following his nearly sold out Jokes For Humans Tour in 2025\, Crist kicked off his national John Crist Live! Tour in January 2026\, which included a sold-out show at Nashville’s Opry House. He’ll continue to bring his standup to fans across the country\, announcing 25 additional fall dates for the John Crist Live! Tour. \nThe Georgia native’s latest comedy special\, John Crist: Emotional Support has surpassed 4 million views on Youtube alone\, with clips from the special reaching millions more. Crist hosts the pop-culture-meets-comedy podcast Net Positive with John Crist and has appeared on The Tonight Show Starring Jimmy Fallon\, Good Morning America\, SEC Network\, SHERRI\, CBS Sports\, Barstool Sports and Theo Von’s This Past Weekend. \nFor tickets and more information\, visit johncristcomedy.com. \nNow is your time to see him LIVE at Selena Auditorium on November 22! \nTickets are on sale now.
URL:https://www.hilliardcenter.com/event/john-crist-live/
LOCATION:Selena Auditorium\, 1901 N. Shoreline Blvd\, Corpus Christi\, TX\, 78401\, United States
CATEGORIES:Comedy
ATTACH;FMTTYPE=image/jpeg:https://www.hilliardcenter.com/wp-content/uploads/2026/03/JohnCrist_CCTX_1920x1080.jpg
END:VEVENT
END:VCALENDAR